BEGIN:VCALENDAR
VERSION:2.0
CALSCALE:GREGORIAN
PRODID:-//Diputació de Barcelona//DibaCMS//EN
BEGIN:VEVENT
UID:3078
DTSTAMP:20260425T205103
DTSTART:20151213T000000
DTEND:20151213T000000
SUMMARY:Actuació de Tam-Tam Gospel. 
LOCATION:
METHOD:PUBLISH
X-WR-CALNAME:riupr.ajuntament@santaeulaliariuprimer.cat
X-WR-TIMEZONE:Europe/Madrid
DESCRIPTION:A 2/4 de 6 de la tarda, a l’Església Parroquial. Actuació de Tam-Tam Gospel. Tots els diners que es recaptin seran per La Marató de TV3. Col•labora la Parròquia. Organitza: Club de Lectura.
URI:https://www.santaeulaliariuprimer.cat/actualitat/agenda/actuacio-de-tam-tam-gospel-.html
CLASS:PUBLIC
END:VEVENT
END:VCALENDAR
