BEGIN:VCALENDAR
VERSION:2.0
CALSCALE:GREGORIAN
PRODID:-//Diputació de Barcelona//DibaCMS//EN
BEGIN:VEVENT
UID:3080
DTSTAMP:20260425T154656
DTSTART:20141213T000000
DTEND:20141213T000000
SUMMARY:Caminada Xica 
LOCATION:
METHOD:PUBLISH
X-WR-CALNAME:riupr.ajuntament@santaeulaliariuprimer.cat
X-WR-TIMEZONE:Europe/Madrid
DESCRIPTION:A les 7 de la tarda. Caminada Xica pels voltants del poble. Sortida des de la Plaça de les Pedretes. Recorregut d'uns 8km. Preu 3€. Porteu lot i roba d'abric. 
URI:https://www.santaeulaliariuprimer.cat/actualitat/agenda/caminada-xica-.html
CLASS:PUBLIC
END:VEVENT
END:VCALENDAR
