BEGIN:VCALENDAR
VERSION:2.0
CALSCALE:GREGORIAN
PRODID:-//Diputació de Barcelona//DibaCMS//EN
BEGIN:VEVENT
UID:3082
DTSTAMP:20260425T210158
DTSTART:20161113T000000
DTEND:20161113T000000
SUMMARY:Homenatge a la vellesa. Festa dels Avis 2016.
LOCATION:
METHOD:PUBLISH
X-WR-CALNAME:riupr.ajuntament@santaeulaliariuprimer.cat
X-WR-TIMEZONE:Europe/Madrid
DESCRIPTION:Diumenge 13 de novembre de 2016A les 12.30h Missa cantada per la Coral de Santa Eulàlia de RiuprimerAbans de dinar al local del jovent, vermut. A les 13.30h Dinar al Casal dels Avis. A les 17h Actuació de Play Back Torelló, a la Casa de Cultura. Inscripcions a les oficines de l'Ajuntament. Gratuït majors de 65 anys de Santa Eulàlia de Riuprimer. El preu pels acompanyants és de 18€. 
URI:https://www.santaeulaliariuprimer.cat/actualitat/agenda/homenatge-a-la-vellesa-festa-dels-avis-2016.html
CLASS:PUBLIC
END:VEVENT
END:VCALENDAR
