BEGIN:VCALENDAR
VERSION:2.0
CALSCALE:GREGORIAN
PRODID:-//Diputació de Barcelona//DibaCMS//EN
BEGIN:VEVENT
UID:3083
DTSTAMP:20260426T050357
DTSTART:20161013T000000
DTEND:20161013T000000
SUMMARY:Ple Ordinari de l'Ajuntament
LOCATION:
METHOD:PUBLISH
X-WR-CALNAME:riupr.ajuntament@santaeulaliariuprimer.cat
X-WR-TIMEZONE:Europe/Madrid
DESCRIPTION:Ple ordinari de l'Ajuntament, obert al públic general. Vegeu  l'ordre del dia clicant aquí. En aquest enllaç podeu consular actes dels plens anteriors clicant aquí
URI:https://www.santaeulaliariuprimer.cat/actualitat/agenda/3083-ple-ordinari-de-lajuntament.html
CLASS:PUBLIC
END:VEVENT
END:VCALENDAR
