BEGIN:VCALENDAR
VERSION:2.0
CALSCALE:GREGORIAN
PRODID:-//Diputació de Barcelona//DibaCMS//EN
BEGIN:VEVENT
UID:3086
DTSTAMP:20260425T131540
DTSTART:20150713T000000
DTEND:20150713T000000
SUMMARY:Bateig de submarinisme
LOCATION:
METHOD:PUBLISH
X-WR-CALNAME:riupr.ajuntament@santaeulaliariuprimer.cat
X-WR-TIMEZONE:Europe/Madrid
DESCRIPTION:Activitat dins de la programació per a joves de l'estiu 2015 organitzades pel SIJ El Cucut. Lloc de realització: Piscina Municipal. Necessari inscripció prèvia. Activitat per a partir de 8 anys.
URI:https://www.santaeulaliariuprimer.cat/actualitat/agenda/bateig-de-submarinisme.html
CLASS:PUBLIC
END:VEVENT
END:VCALENDAR
