BEGIN:VCALENDAR
VERSION:2.0
CALSCALE:GREGORIAN
PRODID:-//Diputació de Barcelona//DibaCMS//EN
BEGIN:VEVENT
UID:3100
DTSTAMP:20260425T204305
DTSTART:20161212T000000
DTEND:20161212T000000
SUMMARY:Ple extraordinari de l'ajuntament
LOCATION:
METHOD:PUBLISH
X-WR-CALNAME:riupr.ajuntament@santaeulaliariuprimer.cat
X-WR-TIMEZONE:Europe/Madrid
DESCRIPTION: Ple ordinari de l'Ajuntament, obert al públic general.  Vegeu  l'ordre del dia clicant aquí.  En aquest enllaç podeu consular actes dels plens anteriors clicant aquí
URI:https://www.santaeulaliariuprimer.cat/actualitat/agenda/ple-extraordinari-de-lajuntament.html
CLASS:PUBLIC
END:VEVENT
END:VCALENDAR
