BEGIN:VCALENDAR
VERSION:2.0
CALSCALE:GREGORIAN
PRODID:-//Diputació de Barcelona//DibaCMS//EN
BEGIN:VEVENT
UID:3101
DTSTAMP:20260425T233333
DTSTART:20151212T000000
DTEND:20151212T000000
SUMMARY:Taller de tions, campanya Cagu'm el Pare Noel. 
LOCATION:
METHOD:PUBLISH
X-WR-CALNAME:riupr.ajuntament@santaeulaliariuprimer.cat
X-WR-TIMEZONE:Europe/Madrid
DESCRIPTION:Dissabte 12 de desembreDe 10 a 13h a l’Escola El Roure Gros: Taller de tions, campanya Cagu’m el Pare Noel. 
URI:https://www.santaeulaliariuprimer.cat/actualitat/agenda/taller-de-tions-campanya-cagum-el-pare-noel-.html
CLASS:PUBLIC
END:VEVENT
END:VCALENDAR
