BEGIN:VCALENDAR
VERSION:2.0
CALSCALE:GREGORIAN
PRODID:-//Diputació de Barcelona//DibaCMS//EN
BEGIN:VEVENT
UID:3102
DTSTAMP:20260426T004621
DTSTART:20151212T000000
DTEND:20151212T000000
SUMMARY:Alimenta't bé. Xerrada per aconseguir una bona alimentació
LOCATION:
METHOD:PUBLISH
X-WR-CALNAME:riupr.ajuntament@santaeulaliariuprimer.cat
X-WR-TIMEZONE:Europe/Madrid
DESCRIPTION:A 2/4 de 6 de la tarda, a l’aula de lectura. Alimenta’t bé. Xerrada per aconseguir una bona alimentació, a càrrec de la dietista Berta De Buen. Organitza: Club de Lectura. Col•labora: Ajuntament.
URI:https://www.santaeulaliariuprimer.cat/actualitat/agenda/alimentat-be-xerrada-per-aconseguir-una-bona-alimentacio.html
CLASS:PUBLIC
END:VEVENT
END:VCALENDAR
