BEGIN:VCALENDAR
VERSION:2.0
CALSCALE:GREGORIAN
PRODID:-//Diputació de Barcelona//DibaCMS//EN
BEGIN:VEVENT
UID:3103
DTSTAMP:20260425T165703
DTSTART:20151212T000000
DTEND:20151212T000000
SUMMARY:Caminada xica pels voltants del poble
LOCATION:
METHOD:PUBLISH
X-WR-CALNAME:riupr.ajuntament@santaeulaliariuprimer.cat
X-WR-TIMEZONE:Europe/Madrid
DESCRIPTION:A les 7 de la tarda, Caminada xica pels voltants del poble. Sortida des de la plaça de la Vila, recorregut d’uns 8km. Preu 3€. Porteu un lot per persona, roba d’abric i calçat adequat. Els menors de 12 anys han d’anar acompanyats d’un adult.
URI:https://www.santaeulaliariuprimer.cat/actualitat/agenda/caminada-xica-pels-voltants-del-poble.html
CLASS:PUBLIC
END:VEVENT
END:VCALENDAR
