BEGIN:VCALENDAR
VERSION:2.0
CALSCALE:GREGORIAN
PRODID:-//Diputació de Barcelona//DibaCMS//EN
BEGIN:VEVENT
UID:3118
DTSTAMP:20260425T193822
DTSTART:20161211T000000
DTEND:20161211T000000
SUMMARY:Taller de tions. Cagu'm el Pare Noel.
LOCATION:
METHOD:PUBLISH
X-WR-CALNAME:riupr.ajuntament@santaeulaliariuprimer.cat
X-WR-TIMEZONE:Europe/Madrid
DESCRIPTION:El diumenge dia 11 al matí, arriba el ja tradicional taller de tions emmarcat en la campanya Cagu’m el Pare Noel. Serà de 10h a 13h del matí a l'Escola Municipal El Roure Gros. I durant aquest mes de desembre l’Oncle Buscall, el mestre tioner, també visitarà l’escola municipal el Roure Gros per tal d’explicar als nens com han de cuidar i com han d’alimentar als tions.
URI:https://www.santaeulaliariuprimer.cat/actualitat/agenda/taller-de-tions-cagum-el-pare-noel.html
CLASS:PUBLIC
END:VEVENT
END:VCALENDAR
