BEGIN:VCALENDAR
VERSION:2.0
CALSCALE:GREGORIAN
PRODID:-//Diputació de Barcelona//DibaCMS//EN
BEGIN:VEVENT
UID:3126
DTSTAMP:20260425T160910
DTSTART:20160911T000000
DTEND:20160911T000000
SUMMARY:XVIII 2 hores de Resistència d'Enduro. Memorial Santi Piella. Riuprimer Gas i Rocs. 
LOCATION:
METHOD:PUBLISH
X-WR-CALNAME:riupr.ajuntament@santaeulaliariuprimer.cat
X-WR-TIMEZONE:Europe/Madrid
DESCRIPTION:XVIII 2 hores de Resistència d’Enduro. Memorial Santi Piella.Inscripcions a les 8h. Entrenaments a les 9h. Arrencada des de les 11h fins a les 13h.Organitza: Motoclub Riuprimer Gas i Rocs. Facebook: Moto Club RGR Col•labora: L’Ajuntament.
URI:https://www.santaeulaliariuprimer.cat/actualitat/agenda/xviii-2-hores-de-resistencia-denduro-memorial-santi-piella-riuprimer-gas-i-rocs-.html
CLASS:PUBLIC
END:VEVENT
END:VCALENDAR
