BEGIN:VCALENDAR
VERSION:2.0
CALSCALE:GREGORIAN
PRODID:-//Diputació de Barcelona//DibaCMS//EN
BEGIN:VEVENT
UID:3146
DTSTAMP:20260425T170909
DTSTART:20161210T000000
DTEND:20161210T000000
SUMMARY:Concert de Corals a l'Església Parroquial
LOCATION:
METHOD:PUBLISH
X-WR-CALNAME:riupr.ajuntament@santaeulaliariuprimer.cat
X-WR-TIMEZONE:Europe/Madrid
DESCRIPTION:A 2/4 de 6 de la tarda, a l’Església Parroquial. Concert: “Coral Aula d’Extensió Universitària Gent Gran d’Osona” Director: Manel Marsó i “Cantaires de Riuprimer” Director: Joan Montells. Entrada gratuïta i s’accepten donatius. Es rifarà una panera. Tots els diners que es recaptin seran per La Marató de TV3. Col•labora la Parròquia. Organitza: Ajuntament i Club de Lectura.
URI:https://www.santaeulaliariuprimer.cat/actualitat/agenda/concert-de-corals-a-lesglesia-parroquial.html
CLASS:PUBLIC
END:VEVENT
END:VCALENDAR
