BEGIN:VCALENDAR
VERSION:2.0
CALSCALE:GREGORIAN
PRODID:-//Diputació de Barcelona//DibaCMS//EN
BEGIN:VEVENT
UID:3147
DTSTAMP:20260425T205545
DTSTART:20161210T000000
DTEND:20161210T000000
SUMMARY:Caminada Xica
LOCATION:
METHOD:PUBLISH
X-WR-CALNAME:riupr.ajuntament@santaeulaliariuprimer.cat
X-WR-TIMEZONE:Europe/Madrid
DESCRIPTION:Caminada Xica, a partir de les 7 de la tarda, pels voltants del poble. Sortida des de la plaça de la Vila, recorregut d’uns 8km. Preu 3€. Porteu un lot per persona, roba d’abric i calçat adequat. Els menors de 12 anys han d’anar acompanyats d’un adult. Hi ha una assegurança pels caminadors. Organitza: Ajuntament.
URI:https://www.santaeulaliariuprimer.cat/actualitat/agenda/caminada-xica.html
CLASS:PUBLIC
END:VEVENT
END:VCALENDAR
