BEGIN:VCALENDAR
VERSION:2.0
CALSCALE:GREGORIAN
PRODID:-//Diputació de Barcelona//DibaCMS//EN
BEGIN:VEVENT
UID:3148
DTSTAMP:20260425T170249
DTSTART:20151210T000000
DTEND:20151210T000000
SUMMARY:Missa de Festa Major cantada pel poble
LOCATION:
METHOD:PUBLISH
X-WR-CALNAME:riupr.ajuntament@santaeulaliariuprimer.cat
X-WR-TIMEZONE:Europe/Madrid
DESCRIPTION:Dijous 10 de desembre12h a l’Església Parroquial. Missa de Festa Major cantada pel poble. Farà l’homilia el claretià superior de la Mercè, Josep Armengol. Seguidament, petit piscolabis al Casal d'Avis.
URI:https://www.santaeulaliariuprimer.cat/actualitat/agenda/missa-de-festa-major-cantada-pel-poble.html
CLASS:PUBLIC
END:VEVENT
END:VCALENDAR
