BEGIN:VCALENDAR
VERSION:2.0
CALSCALE:GREGORIAN
PRODID:-//Diputació de Barcelona//DibaCMS//EN
BEGIN:VEVENT
UID:3149
DTSTAMP:20260425T160752
DTSTART:20151210T000000
DTEND:20151210T000000
SUMMARY:Actuació musical i teatral amb el grup teatral Pep de Prats de Lluçanès. Espectacle: Son de cançons. 
LOCATION:
METHOD:PUBLISH
X-WR-CALNAME:riupr.ajuntament@santaeulaliariuprimer.cat
X-WR-TIMEZONE:Europe/Madrid
DESCRIPTION:A les 6 de la tarda, al Casal d’Avis, actuació musical i teatral amb el grup teatral Pep de Prats de Lluçanès. Espectacle: Son de cançons.
URI:https://www.santaeulaliariuprimer.cat/actualitat/agenda/actuacio-musical-i-teatral-amb-el-grup-teatral-pep-de-prats-de-llucanes-espectacle-son-de-cancons-.html
CLASS:PUBLIC
END:VEVENT
END:VCALENDAR
