BEGIN:VCALENDAR
VERSION:2.0
CALSCALE:GREGORIAN
PRODID:-//Diputació de Barcelona//DibaCMS//EN
BEGIN:VEVENT
UID:3175
DTSTAMP:20260425T170227
DTSTART:20160909T000000
DTEND:20160909T000000
SUMMARY:XIV Marxa dels Vigatans
LOCATION:
METHOD:PUBLISH
X-WR-CALNAME:riupr.ajuntament@santaeulaliariuprimer.cat
X-WR-TIMEZONE:Europe/Madrid
DESCRIPTION:18.15h Commemoració de la Diada Nacional del Principat de Catalunya. Ofrena floral , lliurament de la Flama del Pacte de Sant Sebastià i inici de la caminada de la XIV Marxa dels Vigatans de Riuprimer fins a Vic. A la Plaça de la Rectoria.
URI:https://www.santaeulaliariuprimer.cat/actualitat/agenda/xiv-marxa-dels-vigatans.html
CLASS:PUBLIC
END:VEVENT
END:VCALENDAR
