BEGIN:VCALENDAR
VERSION:2.0
CALSCALE:GREGORIAN
PRODID:-//Diputació de Barcelona//DibaCMS//EN
BEGIN:VEVENT
UID:3178
DTSTAMP:20260425T205628
DTSTART:20160609T000000
DTEND:20160609T000000
SUMMARY:Qui t'entengui  . . que et compri
LOCATION:
METHOD:PUBLISH
X-WR-CALNAME:riupr.ajuntament@santaeulaliariuprimer.cat
X-WR-TIMEZONE:Europe/Madrid
DESCRIPTION: Taller per a pares i mares. Obert a tothom!
URI:https://www.santaeulaliariuprimer.cat/actualitat/agenda/qui-tentengui---que-et-compri.html
CLASS:PUBLIC
END:VEVENT
END:VCALENDAR
