BEGIN:VCALENDAR
VERSION:2.0
CALSCALE:GREGORIAN
PRODID:-//Diputació de Barcelona//DibaCMS//EN
BEGIN:VEVENT
UID:3202
DTSTAMP:20260425T182009
DTSTART:20150708T000000
DTEND:20150708T000000
SUMMARY:Taller de cuina sense pares
LOCATION:
METHOD:PUBLISH
X-WR-CALNAME:riupr.ajuntament@santaeulaliariuprimer.cat
X-WR-TIMEZONE:Europe/Madrid
DESCRIPTION:Activitat dins de la programació per a joves de l'estiu 2015 organitzades pel SIJ El Cucut. Lloc de realització:  SIJ El Cucut. Necessari inscripció prèvia. Activitat per a partir de 8 anys.
URI:https://www.santaeulaliariuprimer.cat/actualitat/agenda/taller-de-cuina-sense-pares.html
CLASS:PUBLIC
END:VEVENT
END:VCALENDAR
