BEGIN:VCALENDAR
VERSION:2.0
CALSCALE:GREGORIAN
PRODID:-//Diputació de Barcelona//DibaCMS//EN
BEGIN:VEVENT
UID:3216
DTSTAMP:20260425T171430
DTSTART:20160308T000000
DTEND:20160308T000000
SUMMARY:Dia internaciónal de la dona. Jornada a l'Escola el Roure Gros
LOCATION:
METHOD:PUBLISH
X-WR-CALNAME:riupr.ajuntament@santaeulaliariuprimer.cat
X-WR-TIMEZONE:Europe/Madrid
DESCRIPTION:
URI:https://www.santaeulaliariuprimer.cat/actualitat/agenda/dia-internacional-de-la-dona-jornada-a-lescola-el-roure-gros.html
CLASS:PUBLIC
END:VEVENT
END:VCALENDAR
