BEGIN:VCALENDAR
VERSION:2.0
CALSCALE:GREGORIAN
PRODID:-//Diputació de Barcelona//DibaCMS//EN
BEGIN:VEVENT
UID:3260
DTSTAMP:20260426T020640
DTSTART:20150906T000000
DTEND:20150906T000000
SUMMARY:Festa Major d'Estiu. Ball de tarda.
LOCATION:
METHOD:PUBLISH
X-WR-CALNAME:riupr.ajuntament@santaeulaliariuprimer.cat
X-WR-TIMEZONE:Europe/Madrid
DESCRIPTION:Amb l' Orquestra MOONLIGHT. A la Plaça de la Rectoria.
URI:https://www.santaeulaliariuprimer.cat/actualitat/agenda/festa-major-destiu-ball-de-tarda.html
CLASS:PUBLIC
END:VEVENT
END:VCALENDAR
