BEGIN:VCALENDAR
VERSION:2.0
CALSCALE:GREGORIAN
PRODID:-//Diputació de Barcelona//DibaCMS//EN
BEGIN:VEVENT
UID:3281
DTSTAMP:20260426T020508
DTSTART:20151005T000000
DTEND:20151005T000000
SUMMARY:GENT GRAN ACTIVA! XERRADA
Els beneficis d'un envelliment actiu

LOCATION:
METHOD:PUBLISH
X-WR-CALNAME:riupr.ajuntament@santaeulaliariuprimer.cat
X-WR-TIMEZONE:Europe/Madrid
DESCRIPTION:
URI:https://www.santaeulaliariuprimer.cat/actualitat/agenda/gent-gran-activa-xerradaels-beneficis-dun-envelliment-actiu.html
CLASS:PUBLIC
END:VEVENT
END:VCALENDAR
