BEGIN:VCALENDAR
VERSION:2.0
CALSCALE:GREGORIAN
PRODID:-//Diputació de Barcelona//DibaCMS//EN
BEGIN:VEVENT
UID:3282
DTSTAMP:20260426T050320
DTSTART:20160905T000000
DTEND:20160905T000000
SUMMARY:Festa Major d'Estiu 2016
LOCATION:
METHOD:PUBLISH
X-WR-CALNAME:riupr.ajuntament@santaeulaliariuprimer.cat
X-WR-TIMEZONE:Europe/Madrid
DESCRIPTION:9.30h Xocolatada. A l’Escola El Roure Gros.10.30h Animació infantil amb escuma, amb Jordi Tonietti i Cia. A la Plaça de la Rectoria11.30h Missa pels difunts d’enguany de la Parròquia.14h Arrossada. A la Font Gran. Preu tiquet 7€. 17h Sardanes amb la Cobla Canigó, i fi de festa amb l’hora dels adéus. A l’Avinguda del Benestar. Hi haurà rifes a benefici de l’AMPA de la Llar d’Infants El Roure Xic.
URI:https://www.santaeulaliariuprimer.cat/actualitat/agenda/3282-festa-major-destiu-2016.html
CLASS:PUBLIC
END:VEVENT
END:VCALENDAR
