BEGIN:VCALENDAR
VERSION:2.0
CALSCALE:GREGORIAN
PRODID:-//Diputació de Barcelona//DibaCMS//EN
BEGIN:VEVENT
UID:3285
DTSTAMP:20260425T131403
DTSTART:20150905T000000
DTEND:20150905T000000
SUMMARY:Festa Major d'Estiu. Futbol.
LOCATION:
METHOD:PUBLISH
X-WR-CALNAME:riupr.ajuntament@santaeulaliariuprimer.cat
X-WR-TIMEZONE:Europe/Madrid
DESCRIPTION:Partit entre el C.F. Vic Riuprimer (2a Catalana) i el Joventut 25 setembre
URI:https://www.santaeulaliariuprimer.cat/actualitat/agenda/3285-festa-major-destiu-futbol.html
CLASS:PUBLIC
END:VEVENT
END:VCALENDAR
