BEGIN:VCALENDAR
VERSION:2.0
CALSCALE:GREGORIAN
PRODID:-//Diputació de Barcelona//DibaCMS//EN
BEGIN:VEVENT
UID:3286
DTSTAMP:20260425T154521
DTSTART:20150905T000000
DTEND:20150905T000000
SUMMARY:Festa Major d'Estiu. IV Carnaval d'Estiu.
LOCATION:
METHOD:PUBLISH
X-WR-CALNAME:riupr.ajuntament@santaeulaliariuprimer.cat
X-WR-TIMEZONE:Europe/Madrid
DESCRIPTION:Gran baixada d'artefactes rodants sense motor, andròmines, cotxets, mascotes, "escarrutxes", monopatins,...Baixeu disfressats pels carrers del poble, amb l'animació musical dels Serafins. Premis al més treballat, al més original i al més divertit.
URI:https://www.santaeulaliariuprimer.cat/actualitat/agenda/festa-major-destiu-iv-carnaval-destiu.html
CLASS:PUBLIC
END:VEVENT
END:VCALENDAR
