BEGIN:VCALENDAR
VERSION:2.0
CALSCALE:GREGORIAN
PRODID:-//Diputació de Barcelona//DibaCMS//EN
BEGIN:VEVENT
UID:3293
DTSTAMP:20260426T004443
DTSTART:20160505T000000
DTEND:20160505T000000
SUMMARY:Formació per autònoms i petits empresaris
LOCATION:
METHOD:PUBLISH
X-WR-CALNAME:riupr.ajuntament@santaeulaliariuprimer.cat
X-WR-TIMEZONE:Europe/Madrid
DESCRIPTION:
URI:https://www.santaeulaliariuprimer.cat/actualitat/agenda/3293-formacio-per-autonoms-i-petits-empresaris.html
CLASS:PUBLIC
END:VEVENT
END:VCALENDAR
