BEGIN:VCALENDAR
VERSION:2.0
CALSCALE:GREGORIAN
PRODID:-//Diputació de Barcelona//DibaCMS//EN
BEGIN:VEVENT
UID:3304
DTSTAMP:20260425T171008
DTSTART:20160105T000000
DTEND:20160105T000000
SUMMARY:Reis i pessebre vivent
LOCATION:
METHOD:PUBLISH
X-WR-CALNAME:riupr.ajuntament@santaeulaliariuprimer.cat
X-WR-TIMEZONE:Europe/Madrid
DESCRIPTION:Properament més informació. 
URI:https://www.santaeulaliariuprimer.cat/actualitat/agenda/reis-i-pessebre-vivent.html
CLASS:PUBLIC
END:VEVENT
END:VCALENDAR
