BEGIN:VCALENDAR
VERSION:2.0
CALSCALE:GREGORIAN
PRODID:-//Diputació de Barcelona//DibaCMS//EN
BEGIN:VEVENT
UID:3314
DTSTAMP:20260425T143647
DTSTART:20160904T000000
DTEND:20160904T000000
SUMMARY:Festa Major d'Estiu 2016
LOCATION:
METHOD:PUBLISH
X-WR-CALNAME:riupr.ajuntament@santaeulaliariuprimer.cat
X-WR-TIMEZONE:Europe/Madrid
DESCRIPTION:10h Futbol Vic Riuprimer REFO (Aleví B) - Unió Futbol Base Jabac Terrassa.11.30h Futbol. Vic Riuprimer REFO (Infantil B) - Escola F. Bosc de Tosca,C.11h Repic de campanes.11.30h Ofici de Festa Major amb els Cantaires de Riuprimer.Seguidament a la Plaça de l’Església i els carrers del nucli antic Cercavila amb els Gegants i els grallers del Carrer de la Riera de Vic i els Gegants Eulàlia i Sebastià de Santa Eulàlia de Riuprimer acompanyats dels grallers.12.30h Brindis de Festa Major amb el joc del conill porquí.A la Plaça de la Rectoria.17.30h Futbol. 2a Catalana Vic Riuprimer REFO – Caldes Montbui C.F. (Primer partit de lliga). 18h Ball de tarda amb l’orquestra Moonlight.A la Plaça de la Rectoria.
URI:https://www.santaeulaliariuprimer.cat/actualitat/agenda/3314-festa-major-destiu-2016.html
CLASS:PUBLIC
END:VEVENT
END:VCALENDAR
