BEGIN:VCALENDAR
VERSION:2.0
CALSCALE:GREGORIAN
PRODID:-//Diputació de Barcelona//DibaCMS//EN
BEGIN:VEVENT
UID:3344
DTSTAMP:20260425T155918
DTSTART:20160903T000000
DTEND:20160903T000000
SUMMARY:Festa Major d'Estiu 2016
LOCATION:
METHOD:PUBLISH
X-WR-CALNAME:riupr.ajuntament@santaeulaliariuprimer.cat
X-WR-TIMEZONE:Europe/Madrid
DESCRIPTION:9.30h Futbol. Vic Riuprimer REFO (Benjamí A) – Escola F.Gironès-Sabat. 10.30-13.30h Festa aquàtica amb atraccions inflables a la piscina. Entrada gratuïta.11h Futbol. Vic Riuprimer REFO (Aleví A) - Escola F.Gironès-Sabat.12.30h Futbol. Vic Riuprimer REFO (Infantil A) - Escola F.Gironès-Sabat.18h V Carnaval d’estiuGran baixada d’artefactes rodants sense motor, andròmines, cotxets, mascotes, “escarrutxes”, monopatins... Baixeu disfressats pels carrers del poble, amb animació musical. Hi haurà premis per a tots els participants. Us heu d’inscriure anticipadament a l’Ajuntament donant les vostres dades per a l’assegurança d’accidents. (Fins al dijous dia 1 de setembre. Gratuït). 21.30h Correfoc amb els Diables Sexes Foc de Sant Cugat Sesgarrigues pels carrers del poble. Inici a l’alçada de la Fàbrica, al carrer Major. 23.15h Ball de Festa Major amb l’Orquestra Mitjanit, i tot seguit nit de gresca amb Disco-mòbil a càrrec d’Spexen. Hi haurà xocolatada per acabar.A la Plaça de la Rectoria.
URI:https://www.santaeulaliariuprimer.cat/actualitat/agenda/3344-festa-major-destiu-2016.html
CLASS:PUBLIC
END:VEVENT
END:VCALENDAR
