BEGIN:VCALENDAR
VERSION:2.0
CALSCALE:GREGORIAN
PRODID:-//Diputació de Barcelona//DibaCMS//EN
BEGIN:VEVENT
UID:3345
DTSTAMP:20260425T171334
DTSTART:20150903T000000
DTEND:20150903T000000
SUMMARY:Festa Major d'Estiu. Pregó de Festa Major, espectacle i pica-pica.
LOCATION:
METHOD:PUBLISH
X-WR-CALNAME:riupr.ajuntament@santaeulaliariuprimer.cat
X-WR-TIMEZONE:Europe/Madrid
DESCRIPTION:El Pregó a càrrec de Pedala- Pedala, entitat que enguany compleix 25 edicions organitzant la clàssica sortida amb bicicleta de muntanya.Tot seguit, espectacle d'Isabel Castro, Intrèpida perruquera xarona. Seguidament pica-pica. A la Plaça de la Vila.
URI:https://www.santaeulaliariuprimer.cat/actualitat/agenda/festa-major-destiu-prego-de-festa-major-espectacle-i-pica-pica.html
CLASS:PUBLIC
END:VEVENT
END:VCALENDAR
