BEGIN:VCALENDAR
VERSION:2.0
CALSCALE:GREGORIAN
PRODID:-//Diputació de Barcelona//DibaCMS//EN
BEGIN:VEVENT
UID:3347
DTSTAMP:20260425T221238
DTSTART:20160703T000000
DTEND:20160721T000000
SUMMARY:ACTIVITATS D'ESTIU
LOCATION:
METHOD:PUBLISH
X-WR-CALNAME:riupr.ajuntament@santaeulaliariuprimer.cat
X-WR-TIMEZONE:Europe/Madrid
DESCRIPTION:Amb la calor, arriben les activitats d'estiu!!!!Per més informació, apropeu-vos i feu les inscripcions al PIJ "El Cucut"
URI:https://www.santaeulaliariuprimer.cat/actualitat/agenda/activitats-destiu.html
CLASS:PUBLIC
END:VEVENT
END:VCALENDAR
