BEGIN:VCALENDAR
VERSION:2.0
CALSCALE:GREGORIAN
PRODID:-//Diputació de Barcelona//DibaCMS//EN
BEGIN:VEVENT
UID:3349
DTSTAMP:20260426T033807
DTSTART:20160403T000000
DTEND:20160403T000000
SUMMARY:Aplec de Sant Sebastià 2016
LOCATION:
METHOD:PUBLISH
X-WR-CALNAME:riupr.ajuntament@santaeulaliariuprimer.cat
X-WR-TIMEZONE:Europe/Madrid
DESCRIPTION:
URI:https://www.santaeulaliariuprimer.cat/actualitat/agenda/3349-aplec-de-sant-sebastia-2016.html
CLASS:PUBLIC
END:VEVENT
END:VCALENDAR
