BEGIN:VCALENDAR
VERSION:2.0
CALSCALE:GREGORIAN
PRODID:-//Diputació de Barcelona//DibaCMS//EN
BEGIN:VEVENT
UID:3355
DTSTAMP:20260425T204410
DTSTART:20160103T000000
DTEND:20160103T000000
SUMMARY:El Conte de Nadal
LOCATION:
METHOD:PUBLISH
X-WR-CALNAME:riupr.ajuntament@santaeulaliariuprimer.cat
X-WR-TIMEZONE:Europe/Madrid
DESCRIPTION:El Conte de Nadal:Diumenge 27 de desembre a les 18h.Dissabte 2 de gener a les 21.30h. Diumenge 3 de gener a les 18h. Preu entrades: Anticipades 5€ a Can Pastisser, Ca la Lourdes i Can Ton. Nens fins a 2 anys gratuït. Entrades a taquilla abans de la funció 7€. (A benefici de l'AMPA del Roure Xic). Organitza: AMPA Roure Xic. Col•labora: L'Ajuntament. 
URI:https://www.santaeulaliariuprimer.cat/actualitat/agenda/3355-el-conte-de-nadal.html
CLASS:PUBLIC
END:VEVENT
END:VCALENDAR
