BEGIN:VCALENDAR
VERSION:2.0
CALSCALE:GREGORIAN
PRODID:-//Diputació de Barcelona//DibaCMS//EN
BEGIN:VEVENT
UID:3371
DTSTAMP:20260426T004610
DTSTART:20160902T000000
DTEND:20160902T000000
SUMMARY:Festa Major d'Estiu 2016
LOCATION:
METHOD:PUBLISH
X-WR-CALNAME:riupr.ajuntament@santaeulaliariuprimer.cat
X-WR-TIMEZONE:Europe/Madrid
DESCRIPTION:16h -19h Jocs infantils i juvenils amb inflables i rocòdrom. A la Pista Nova.20.30h Sardinada popular amb cantada d’havaneres a càrrec del grup Atotavela. A la Plaça Nova. Preu sardinada: 7€. 00h Riuprimember 2016. Welcome to Jamaica, welcome to Riuprimer!!Concert del grup local: Artistes Invitats (versions rock i pop). Concert del grup Greska (ska reggae). Seguidament PD Rastes.Heu d’anar disfressats amb estètica jamaicana: rastes, palmeres, atletes, Bob Marley’s, etc. A la Plaça de la Rectoria.
URI:https://www.santaeulaliariuprimer.cat/actualitat/agenda/3371-festa-major-destiu-2016.html
CLASS:PUBLIC
END:VEVENT
END:VCALENDAR
