BEGIN:VCALENDAR
VERSION:2.0
CALSCALE:GREGORIAN
PRODID:-//Diputació de Barcelona//DibaCMS//EN
BEGIN:VEVENT
UID:3373
DTSTAMP:20260426T033153
DTSTART:20150902T000000
DTEND:20150902T000000
SUMMARY:Dinar 13è aniversari CASAL D'AVIS
LOCATION:
METHOD:PUBLISH
X-WR-CALNAME:riupr.ajuntament@santaeulaliariuprimer.cat
X-WR-TIMEZONE:Europe/Madrid
DESCRIPTION:Us podeu apuntar fins el diumenge 30 d'agostPORTEU PLATS, GOTS I COBERTS
URI:https://www.santaeulaliariuprimer.cat/actualitat/agenda/dinar-13e-aniversari-casal-davis.html
CLASS:PUBLIC
END:VEVENT
END:VCALENDAR
