BEGIN:VCALENDAR
VERSION:2.0
CALSCALE:GREGORIAN
PRODID:-//Diputació de Barcelona//DibaCMS//EN
BEGIN:VEVENT
UID:3383
DTSTAMP:20260426T032533
DTSTART:20170502T000000
DTEND:20170502T000000
SUMMARY:Oficina Mòbil Informació al consumidor
LOCATION:
METHOD:PUBLISH
X-WR-CALNAME:riupr.ajuntament@santaeulaliariuprimer.cat
X-WR-TIMEZONE:Europe/Madrid
DESCRIPTION:
URI:https://www.santaeulaliariuprimer.cat/actualitat/agenda/oficina-mobil-informacio-al-consumidor.html
CLASS:PUBLIC
END:VEVENT
END:VCALENDAR
