BEGIN:VCALENDAR
VERSION:2.0
CALSCALE:GREGORIAN
PRODID:-//Diputació de Barcelona//DibaCMS//EN
BEGIN:VEVENT
UID:3414
DTSTAMP:20260426T005111
DTSTART:20160901T000000
DTEND:20160901T000000
SUMMARY:Festa Major d'Estiu 2016
LOCATION:
METHOD:PUBLISH
X-WR-CALNAME:riupr.ajuntament@santaeulaliariuprimer.cat
X-WR-TIMEZONE:Europe/Madrid
DESCRIPTION:20.30h Pregó de Festa Major a càrrec de Josep Franquesa i Freixanet. Impulsor de la Festa del Segar i el Batre de Santa Eulàlia de Riuprimer que ha arribat enguany a la 20a Edició. Seguidament, concert de percussió: BUM BAND percussió, amb Santi Arisa i Dan Arisa.Hi haurà pica-pica per acabar la jornada. A la Plaça de la Vila.
URI:https://www.santaeulaliariuprimer.cat/actualitat/agenda/3414-festa-major-destiu-2016.html
CLASS:PUBLIC
END:VEVENT
END:VCALENDAR
