BEGIN:VCALENDAR
VERSION:2.0
CALSCALE:GREGORIAN
PRODID:-//Diputació de Barcelona//DibaCMS//EN
BEGIN:VEVENT
UID:3415
DTSTAMP:20260425T205358
DTSTART:20150901T000000
DTEND:20150901T000000
SUMMARY:Festa Major d'Estiu. Presentació de la XIII Marxa dels Vigatans.
LOCATION:
METHOD:PUBLISH
X-WR-CALNAME:riupr.ajuntament@santaeulaliariuprimer.cat
X-WR-TIMEZONE:Europe/Madrid
DESCRIPTION:Seguidament la columna de Santa Eulàlia de Riuprimer repartirà la Flama del Pacte dels Vigatans a les columnes d'arreu de la comarca. A l'Ermita de Sant Sebastià.
URI:https://www.santaeulaliariuprimer.cat/actualitat/agenda/festa-major-destiu-presentacio-de-la-xiii-marxa-dels-vigatans.html
CLASS:PUBLIC
END:VEVENT
END:VCALENDAR
