BEGIN:VCALENDAR
VERSION:2.0
CALSCALE:GREGORIAN
PRODID:-//Diputació de Barcelona//DibaCMS//EN
BEGIN:VEVENT
UID:3427
DTSTAMP:20260425T210219
DTSTART:20160501T000000
DTEND:20160501T000000
SUMMARY:Sortida: Ruta de l'exili. Visitarem Figueres, La Vajol i Coll de Lli.
LOCATION:
METHOD:PUBLISH
X-WR-CALNAME:riupr.ajuntament@santaeulaliariuprimer.cat
X-WR-TIMEZONE:Europe/Madrid
DESCRIPTION:Diumenge 1 de maig. Sortida: Ruta de l’exili. Visitarem Figueres, La Vajol i Coll de Lli. Sortida a les 8h a la parada d’autobusos. Preu: 28€ (inclou desplaçaments, visites guiades i entrades). Dinar de carmanyola a càrrec de cada participant. (Podreu fer el pagament al BBVA de Riuprimer, trobareu l’imprès per omplir a la mateixa oficina). Inscripcions fins al 25 d’abril. Organitza: Club de Lectura.
URI:https://www.santaeulaliariuprimer.cat/actualitat/agenda/sortida-ruta-de-lexili-visitarem-figueres-la-vajol-i-coll-de-lli.html
CLASS:PUBLIC
END:VEVENT
END:VCALENDAR
