BEGIN:VCALENDAR
VERSION:2.0
CALSCALE:GREGORIAN
PRODID:-//Diputació de Barcelona//DibaCMS//EN
BEGIN:VEVENT
UID:3431
DTSTAMP:20260425T205337
DTSTART:20160301T000000
DTEND:20160325T000000
SUMMARY:RAID DELS AUSETANS 2016
LOCATION:
METHOD:PUBLISH
X-WR-CALNAME:riupr.ajuntament@santaeulaliariuprimer.cat
X-WR-TIMEZONE:Europe/Madrid
DESCRIPTION:Si tens entre 13 i 17 anys, crea el teu equip i viu l'aventura!Inscripcions de l'1 al 25 de març del 2016 al SIJ "El Cucut"
URI:https://www.santaeulaliariuprimer.cat/actualitat/agenda/raid-dels-ausetans-2016.html
CLASS:PUBLIC
END:VEVENT
END:VCALENDAR
