BEGIN:VCALENDAR
VERSION:2.0
CALSCALE:GREGORIAN
PRODID:-//Diputació de Barcelona//DibaCMS//EN
BEGIN:VEVENT
UID:3438
DTSTAMP:20260426T034231
DTSTART:20170101T000000
DTEND:20170101T000000
SUMMARY:Visita del Patge Reial i lliurament de cartes.
LOCATION:
METHOD:PUBLISH
X-WR-CALNAME:riupr.ajuntament@santaeulaliariuprimer.cat
X-WR-TIMEZONE:Europe/Madrid
DESCRIPTION: Els infants podran lliurar les cartes de reis als patges reials i rebran un petit obsequi.Campus de la Rectoria. (En cas de Pluja, Casa de Cultura)
URI:https://www.santaeulaliariuprimer.cat/actualitat/agenda/visita-del-patge-reial-i-lliurament-de-cartes.html
CLASS:PUBLIC
END:VEVENT
END:VCALENDAR
