BEGIN:VCALENDAR
VERSION:2.0
CALSCALE:GREGORIAN
PRODID:-//Diputació de Barcelona//DibaCMS//EN
BEGIN:VEVENT
UID:4787
DTSTAMP:20260426T055013
DTSTART:20221017T153000
DTEND:20221017T183000
SUMMARY:Bibliobús Puigdon 
LOCATION:Plaça de la Vila 
METHOD:PUBLISH
X-WR-CALNAME:riupr.ajuntament@santaeulaliariuprimer.cat
X-WR-TIMEZONE:Europe/Madrid
DESCRIPTION:
URI:https://www.santaeulaliariuprimer.cat/actualitat/agenda/4787-bibliobus-puigdon-.html
CLASS:PUBLIC
END:VEVENT
END:VCALENDAR
