BEGIN:VCALENDAR
VERSION:2.0
CALSCALE:GREGORIAN
PRODID:-//Diputació de Barcelona//DibaCMS//EN
BEGIN:VEVENT
UID:4897
DTSTAMP:20260426T055818
DTSTART:20220926T093000
DTEND:20220926T110000
SUMMARY:Marxa Nòrdica 
LOCATION:
METHOD:PUBLISH
X-WR-CALNAME:riupr.ajuntament@santaeulaliariuprimer.cat
X-WR-TIMEZONE:Europe/Madrid
DESCRIPTION:
URI:https://www.santaeulaliariuprimer.cat/actualitat/agenda/4897-marxa-nordica-.html
CLASS:PUBLIC
END:VEVENT
END:VCALENDAR
