BEGIN:VCALENDAR
VERSION:2.0
CALSCALE:GREGORIAN
PRODID:-//Diputació de Barcelona//DibaCMS//EN
BEGIN:VEVENT
UID:5083
DTSTAMP:20260425T200238
DTSTART:20230619T153000
DTEND:20230619T183000
SUMMARY:Bibliobús Puigdon    
LOCATION:Plaça de la Vila - 1 d'Octubre 
METHOD:PUBLISH
X-WR-CALNAME:riupr.ajuntament@santaeulaliariuprimer.cat
X-WR-TIMEZONE:Europe/Madrid
DESCRIPTION:
URI:https://www.santaeulaliariuprimer.cat/actualitat/agenda/5083-bibliobus-puigdon-.html
CLASS:PUBLIC
END:VEVENT
END:VCALENDAR
