BEGIN:VCALENDAR
VERSION:2.0
CALSCALE:GREGORIAN
PRODID:-//Diputació de Barcelona//DibaCMS//EN
BEGIN:VEVENT
UID:5195
DTSTAMP:20260426T001031
DTSTART:20230227T103000
DTEND:20230227T113000
SUMMARY:Oficina Mòbil Informació al Consumidor
LOCATION:Carrer Major cruïlla Avinguda del Benestar 
METHOD:PUBLISH
X-WR-CALNAME:riupr.ajuntament@santaeulaliariuprimer.cat
X-WR-TIMEZONE:Europe/Madrid
DESCRIPTION:Per atendre les vostres consultes i oferir-vos informació sobre temes de consum

URI:https://www.santaeulaliariuprimer.cat/actualitat/agenda/5195-oficina-mobil-informacio-al-consumidor.html
CLASS:PUBLIC
END:VEVENT
END:VCALENDAR
