BEGIN:VCALENDAR
VERSION:2.0
CALSCALE:GREGORIAN
PRODID:-//Diputació de Barcelona//DibaCMS//EN
BEGIN:VEVENT
UID:5617
DTSTAMP:20260426T050645
DTSTART:20240526T090000
DTEND:20240526T130000
SUMMARY:Cursa Mini Runprimer 360
LOCATION:Darrere Camp de Fútbol de Santa Eulàlia de Riuprimer 
METHOD:PUBLISH
X-WR-CALNAME:riupr.ajuntament@santaeulaliariuprimer.cat
X-WR-TIMEZONE:Europe/Madrid
DESCRIPTION:Aquest diumenge 26 de maig hi haurà la cursa mini runprimer 360

Podreu trobar els recorreguts i fer les inscripcions a través del QR del cartell

URI:https://www.santaeulaliariuprimer.cat/actualitat/agenda/cursa-mini-runprimer-360.html
CLASS:PUBLIC
END:VEVENT
END:VCALENDAR
