BEGIN:VCALENDAR
VERSION:2.0
CALSCALE:GREGORIAN
PRODID:-//Diputació de Barcelona//DibaCMS//EN
BEGIN:VEVENT
UID:5623
DTSTAMP:20260426T034533
DTSTART:20240525T084500
DTEND:20240525T190000
SUMMARY:Torneig Memorial Josep Roura "El Fuster"
LOCATION:El Rieral, s/n 08505 Santa Eulàlia de Riuprimer
METHOD:PUBLISH
X-WR-CALNAME:riupr.ajuntament@santaeulaliariuprimer.cat
X-WR-TIMEZONE:Europe/Madrid
DESCRIPTION:
Demà 25 de maig hi haurà el Torneig Memorial Josep Roura "El Fuster" a partir de les 9h del matí al camp de fútbol de Santa Eulàlia de Riuprimer


URI:https://www.santaeulaliariuprimer.cat/actualitat/agenda/5623-torneig-memorial-josep-roura-el-fuster.html
CLASS:PUBLIC
END:VEVENT
END:VCALENDAR
