BEGIN:VCALENDAR
VERSION:2.0
CALSCALE:GREGORIAN
PRODID:-//Diputació de Barcelona//DibaCMS//EN
BEGIN:VEVENT
UID:5664
DTSTAMP:20260425T131632
DTSTART:20240712T180000
DTEND:20240713T040000
SUMMARY:IV Edició del CLEC Festival
LOCATION:
METHOD:PUBLISH
X-WR-CALNAME:riupr.ajuntament@santaeulaliariuprimer.cat
X-WR-TIMEZONE:Europe/Madrid
DESCRIPTION:La quarta edició del CLEC Festival de Santa Eulàlia de Riuprimer consolida un festival de dos dies per a tots els públics. La cooperació entre el Consell de Joves de Riuprimer i l'Ajuntament és la clau per fomentar la vida de poble, l'autoorganització juvenil i les causes socials que aporta el festival. Al cartell adjunt podreu trobar tota la informació sobre els horaris. Per a més informació, consulteu el següent enllaç.

URI:https://www.santaeulaliariuprimer.cat/actualitat/agenda/5664-iv-edicio-del-clec-festival.html
CLASS:PUBLIC
END:VEVENT
END:VCALENDAR
