BEGIN:VCALENDAR
VERSION:2.0
CALSCALE:GREGORIAN
PRODID:-//Diputació de Barcelona//DibaCMS//EN
BEGIN:VEVENT
UID:5680
DTSTAMP:20260425T193610
DTSTART:20240727T070000
DTEND:20240727T233000
SUMMARY:XXVIII FESTA DEL SEGAR I EL BATRE
LOCATION:Camp de Sota l'Era del Soler, a tocar del Carrer Barcelona.  
METHOD:PUBLISH
X-WR-CALNAME:riupr.ajuntament@santaeulaliariuprimer.cat
X-WR-TIMEZONE:Europe/Madrid
DESCRIPTION:SANTA EULÀLIA DE RIUPRIMER

DISSABTE 27 DE JULIOL DE 2024

CAMP DE SOTA L’ERA DEL SOLER

La Festa del Segar i el Batre de Santa Eulàlia de Riuprimer, un sentiment arrelat a la terra.

El proper dissabte 27 de juliol es celebrarà la 28ª edició de la Festa del Segar i el Batre de Santa Eulàlia de Riuprimer.

URI:https://www.santaeulaliariuprimer.cat/actualitat/agenda/xxviii-festa-del-segar-i-el-batre.html
CLASS:PUBLIC
END:VEVENT
END:VCALENDAR
