BEGIN:VCALENDAR
VERSION:2.0
CALSCALE:GREGORIAN
PRODID:-//Diputació de Barcelona//DibaCMS//EN
BEGIN:VEVENT
UID:5713
DTSTAMP:20260425T182807
DTSTART:20240901T113000
DTEND:20240901T123000
SUMMARY:Festa Major: Cercavila amb els geganters
LOCATION:
METHOD:PUBLISH
X-WR-CALNAME:riupr.ajuntament@santaeulaliariuprimer.cat
X-WR-TIMEZONE:Europe/Madrid
DESCRIPTION:Cercavila amb els geganters de Rubí, els del carrer de la Riera de Vic i els de Santa Eulàlia de Riuprimer. 

URI:https://www.santaeulaliariuprimer.cat/actualitat/agenda/festa-major-cercavila-amb-els-geganters.html
CLASS:PUBLIC
END:VEVENT
END:VCALENDAR
