BEGIN:VCALENDAR
VERSION:2.0
CALSCALE:GREGORIAN
PRODID:-//Diputació de Barcelona//DibaCMS//EN
BEGIN:VEVENT
UID:5717
DTSTAMP:20260425T205414
DTSTART:20240902T100000
DTEND:20240902T110000
SUMMARY:Festa Major: esmorzem plegats amb la xocolata de l'Angelina!
LOCATION:08505 Santa Eulàlia de Riuprimer
METHOD:PUBLISH
X-WR-CALNAME:riupr.ajuntament@santaeulaliariuprimer.cat
X-WR-TIMEZONE:Europe/Madrid
DESCRIPTION:Ubicació: Pati de l'Escola de El Roure Gros

Recordeu que cal portar got, tovalló i cullera!

URI:https://www.santaeulaliariuprimer.cat/actualitat/agenda/festa-major-esmorzem-plegats-amb-la-xocolata-de-langelina.html
CLASS:PUBLIC
END:VEVENT
END:VCALENDAR
